BEGIN:VCALENDAR
VERSION:2.0
PRODID:-//Florida Chamber of Commerce - ECPv6.15.17.1//NONSGML v1.0//EN
CALSCALE:GREGORIAN
METHOD:PUBLISH
X-WR-CALNAME:Florida Chamber of Commerce
X-ORIGINAL-URL:https://www.flchamber.com
X-WR-CALDESC:Events for Florida Chamber of Commerce
REFRESH-INTERVAL;VALUE=DURATION:PT1H
X-Robots-Tag:noindex
X-PUBLISHED-TTL:PT1H
BEGIN:VTIMEZONE
TZID:America/New_York
BEGIN:DAYLIGHT
TZOFFSETFROM:-0500
TZOFFSETTO:-0400
TZNAME:EDT
DTSTART:20210314T070000
END:DAYLIGHT
BEGIN:STANDARD
TZOFFSETFROM:-0400
TZOFFSETTO:-0500
TZNAME:EST
DTSTART:20211107T060000
END:STANDARD
BEGIN:DAYLIGHT
TZOFFSETFROM:-0500
TZOFFSETTO:-0400
TZNAME:EDT
DTSTART:20220313T070000
END:DAYLIGHT
BEGIN:STANDARD
TZOFFSETFROM:-0400
TZOFFSETTO:-0500
TZNAME:EST
DTSTART:20221106T060000
END:STANDARD
BEGIN:DAYLIGHT
TZOFFSETFROM:-0500
TZOFFSETTO:-0400
TZNAME:EDT
DTSTART:20230312T070000
END:DAYLIGHT
BEGIN:STANDARD
TZOFFSETFROM:-0400
TZOFFSETTO:-0500
TZNAME:EST
DTSTART:20231105T060000
END:STANDARD
END:VTIMEZONE
BEGIN:VEVENT
DTSTART;VALUE=DATE:20220831
DTEND;VALUE=DATE:20220901
DTSTAMP:20260419T140024
CREATED:20220112T213423Z
LAST-MODIFIED:20220906T183043Z
UID:10000185-1661904000-1661990399@www.flchamber.com
SUMMARY:2022 Florida Technology & Innovation Solution Summit
DESCRIPTION:As Florida continues to move the needle on becoming a magnet for the best workforce talent and a top ten global economy by 2030\, staying on the forefront of game-changing and innovative business solutions is key to driving that momentum forward. Investing in transformative technologies that yield high-business value results will propel Florida businesses and our economy into a future where change remains the constant. Are you on board? \nJoin the Florida Chamber Foundation for the first annual 2022 Florida Technology & Innovation Solution Summit\, August 31\, 2022\, from 9:00am-4:00pm EDT in Tampa\, FL. Engage in conversations with some of Florida’s top inventors\, leaders in disruptive tech\, and legislators on creating the solutions to build an advanced business climate while looking to innovation to secure Florida’s future. \n  \n \n\n		\n		\n			Click here to view agenda \n			\nHow Technology & Innovation is Driving Florida’s Momentum to 2030\nMark Wilson\, President\, Florida Chamber of Commerce & Foundation \nKeynote Presentation:\nAI\, Robotics\, and Human Healthspan\, Resilience & Performance…an Emerging Nexus of S&T at IHMC\nDr. Kenneth M. Ford\, Founder & CEO\, Florida Institute for Human & Machine Cognition \nA Vision for Florida’s Technology & Innovation Future\nPedro Allende\, Secretary\, Florida Department of Management Services \nRole of Universities in the Innovation Ecosystem\nModerator: Michael DiNapoli\, Director\, Florida Department of Economic Opportunity | Tom Waters\, Assistant Director of Startups & Business Development\, USF Technology Transfer Office | Jim O’Connell\, Assistant Vice President for Commercialization\, UF Innovate | Dr. Edgar Rodriguez\, President & CEO\, Lacerta Therapeutics \nBlock Chain Examples in Education and Other Industries\nTim Marshall\, Vice President of Institutional Technology/CIO\, Indian River State College \nBuilding an AI University\nDr. David Reed\, Associate Provost for Strategic Initiatives\, University of Florida \nBringing an Innovation Partnership to Life\nArchie Collins\, President & CEO\, TECO \nIncubating Innovation\nModerator: Lauren Coffey\, Reporter\, Tampa Bay Business Journal & Tampa Bay Inno | Danielle Mousseau\, Manager of 35 Mules\, Florida Power & Light | Lauren Prager\, CSO\, Synapse | Lakshmi Shenoy\, CEO\, Embarc Collective \nCompanies Fueling Florida’s Life Science Industry\nModerator: Nancy Bryan\, President & CEO\, BioFlorida | Karen Zaderej\, President & CEO\, Axogen | David Smith\, President & CCO\, Akron Bio | Haresh Patel\, Executive Director of Business Services\, Amgen \n12:00PM-1:00PM – LUNCH \nInnovation & Challenges in Advanced Manufacturing\nKevin Carr\, CEO\, FloridaMakes | Alan Taylor\, President\, Rapid Composites \nCities of the Future…Now\nModerator: Racquel Asa\, CMO\, BEEP | Rasesh Thakkar\, Senior Managing Director\, Tavistock Group and Co-Founder\, Lake Nona Impact Forum | Syd Kitson\, Chairman & CEO\, Kitson and Partners \nGlobal Florida: Shining a Light on International Innovation\nPam Miniati\, Co-Executive Director\, Florida-Israel Business Accelerator | Dr. Oren Milstein\, CEO & Chief Scientific Officer\, StemRad | Barak Ranon\, President & CEO Americas\, Watergen\, Ltd. | Shelly Matityahu\, Director of Presales\, Tabit Technologies Inc. \n2:15PM-2:30PM – COFFEE BREAK \nConnecting Small Businesses and Academia to Federal Opportunities\nBrian Liesveld\, CEO\, DEFENSEWERX | Brad Chedister\, Chief Technology & Innovation Officer\, DEFENSEWERX \nWhy the Great Resignation is Great\nAndrew Campbell\, Partner\, Talent Transformation – Healthcare\, Life Sciences & Public Sector\, IBM \nSyniverse: Driving Innovation in Mobile Communications\nDavid Hassman\, Vice President of Strategy\, Syniverse \nFlorida Legacy Industries Driving Innovation\nModerator: Katie Yeutter\, President\, Florida Chamber Safety Council | Carl Stringer\, Vice President\, IT and Employee Benefits\, U.S. Sugar \nClosing and Call to Action\nMark Wilson\, President\, Florida Chamber of Commerce & Foundation \n\n			\n		\n	\n\n		\nREGISTRATION:\nIn-Person Early Bird Registration – $299.00 (early bird registration closes August 1\, 2022)\nIn-Person Regular Registration – $329.00 (after August 1\, 2022)\nVirtual/Livestream Registration: $199.00\nQuestions? Contact Thelma Givens at 850-521-1284 or tgivens@flchamber.com for more information. \nRegister Now\n\n		\n	\n\n		\nMARKETING & SPONSORSHIP OPPORTUNITIES:\nFor questions\, please contact Travis McGilvary at 850-521-1252 or tmcgilvary@flchamber.com for more information. \nBecome a Sponsor\n\n		\n		\n	\n  \n\n		\n			\n				 \n*Hotel Reservations can be made at:\nJW Marriott Tampa Water Street\n510 Water Street\nTampa\, FL 33602 \nTampa Marriott Water Street has been sold out\, but rooms still available at JW Marriott Water Street. \nBook at JW Marriott Water Street\n\n			\n		\n	 \n  \n\n\nThanks to our sponsors!\n  \nCo-Presented by:\n  \n\n		\n		\n	\n\n		 \n		\n		\n	\n  \nPresenting Media Sponsor:\n \n\n  \nDiamond Sponsor:\n \n  \n  \nPlatinum Sponsors:\n  \n  \n\n		\n		\n	\n\n		                       \n		\n	\n\n		          \n		\n		\n	\n  \n  \n \n  \n\n\n  \n\n\n\nGold Sponsor:\n  \n \n  \n  \nSilver Sponsors:\n  \n\n		 \n\n		\n	\n\n		                \n		\n	\n\n		                      \n		\n		\n	\n\n		                              \n		\n	\n\n		\n		\n		\n	\n 
URL:https://www.flchamber.com/tisummit2022
LOCATION:Tampa Marriott Water Street\, 505 Water St\, Tampa\, FL\, 33602\, United States
CATEGORIES:Events,Events|Summits,Events|Summits|Upcoming,Events|Upcoming
ATTACH;FMTTYPE=image/gif:https://www.flchamber.com/wp-content/uploads/2022/01/Tech-and-Inno-GIF-NEW.gif
END:VEVENT
END:VCALENDAR