BEGIN:VCALENDAR
VERSION:2.0
PRODID:-//Florida Chamber of Commerce - ECPv6.15.17.1//NONSGML v1.0//EN
CALSCALE:GREGORIAN
METHOD:PUBLISH
X-ORIGINAL-URL:https://www.flchamber.com
X-WR-CALDESC:Events for Florida Chamber of Commerce
REFRESH-INTERVAL;VALUE=DURATION:PT1H
X-Robots-Tag:noindex
X-PUBLISHED-TTL:PT1H
BEGIN:VTIMEZONE
TZID:America/New_York
BEGIN:DAYLIGHT
TZOFFSETFROM:-0500
TZOFFSETTO:-0400
TZNAME:EDT
DTSTART:20200308T070000
END:DAYLIGHT
BEGIN:STANDARD
TZOFFSETFROM:-0400
TZOFFSETTO:-0500
TZNAME:EST
DTSTART:20201101T060000
END:STANDARD
BEGIN:DAYLIGHT
TZOFFSETFROM:-0500
TZOFFSETTO:-0400
TZNAME:EDT
DTSTART:20210314T070000
END:DAYLIGHT
BEGIN:STANDARD
TZOFFSETFROM:-0400
TZOFFSETTO:-0500
TZNAME:EST
DTSTART:20211107T060000
END:STANDARD
BEGIN:DAYLIGHT
TZOFFSETFROM:-0500
TZOFFSETTO:-0400
TZNAME:EDT
DTSTART:20220313T070000
END:DAYLIGHT
BEGIN:STANDARD
TZOFFSETFROM:-0400
TZOFFSETTO:-0500
TZNAME:EST
DTSTART:20221106T060000
END:STANDARD
END:VTIMEZONE
BEGIN:VEVENT
DTSTART;TZID=America/New_York:20210720T080000
DTEND;TZID=America/New_York:20210723T170000
DTSTAMP:20260424T222219
CREATED:20210302T153520Z
LAST-MODIFIED:20210330T132729Z
UID:10000162-1626768000-1627059600@www.flchamber.com
SUMMARY:35th Annual Environmental Permitting Summer School
DESCRIPTION:We are excited to be returning to the JW Marriott Marco Island for the 2021 Summer School\, scheduled for July 20-23\, 2021! We hope you decide to participate once again\, or rejoin us\, at Florida’s largest and best environmental conference. \n  \nA reservation code for the hotel will be issued once your registration for the conference has been confirmed. \n  \nRegister Now\n  \n  \nFor any questions\, please contact us here.
URL:https://www.flchamber.com/event/35th-annual-environmental-permitting-summer-school/
LOCATION:JW Marriott\, Marco Island\, 400 S Collier Blvd\, Marco Island\, FL\, 34145
CATEGORIES:Events,Events|Upcoming
ATTACH;FMTTYPE=image/png:https://www.flchamber.com/wp-content/uploads/2021/03/EPSS-event-graphic.png
END:VEVENT
END:VCALENDAR